BEGIN:VCALENDAR
VERSION:2.0
PRODID:icalendar-ruby
CALSCALE:GREGORIAN
METHOD:PUBLISH
BEGIN:VEVENT
DTSTAMP:20260424T221852Z
UID:85384002-bed4-4aeb-8ea2-ca4691790f90
DTSTART:20260428T173000
DTEND:20260428T193000
DESCRIPTION:Diese Podiumsdiskussion will erkunden\, wie Darstellungen von i
 ndigenen Menschen mit Rassismus und globalen Machtverhältnissen zusammenh
 ängen und wie koloniale Kontinuitäten dadurch bis heute fortwirken. 
LOCATION:https://maps.app.goo.gl/PZRjkruykqx8UtsaA
SUMMARY:Jenseits von Winnetou: Indigene Perspektiven statt kolonialer Bilde
 r
URL;VALUE=URI:https://www.survivalinternational.de/veranstaltungen/escaping
 -winnetou
END:VEVENT
END:VCALENDAR
